BEGIN:VCALENDAR
VERSION:2.0
PRODID:-//Mobile Opera - ECPv6.15.20//NONSGML v1.0//EN
CALSCALE:GREGORIAN
METHOD:PUBLISH
X-ORIGINAL-URL:https://www.mobileopera.org
X-WR-CALDESC:Events for Mobile Opera
REFRESH-INTERVAL;VALUE=DURATION:PT1H
X-Robots-Tag:noindex
X-PUBLISHED-TTL:PT1H
BEGIN:VTIMEZONE
TZID:America/Chicago
BEGIN:DAYLIGHT
TZOFFSETFROM:-0600
TZOFFSETTO:-0500
TZNAME:CDT
DTSTART:20240310T080000
END:DAYLIGHT
BEGIN:STANDARD
TZOFFSETFROM:-0500
TZOFFSETTO:-0600
TZNAME:CST
DTSTART:20241103T070000
END:STANDARD
BEGIN:DAYLIGHT
TZOFFSETFROM:-0600
TZOFFSETTO:-0500
TZNAME:CDT
DTSTART:20250309T080000
END:DAYLIGHT
BEGIN:STANDARD
TZOFFSETFROM:-0500
TZOFFSETTO:-0600
TZNAME:CST
DTSTART:20251102T070000
END:STANDARD
BEGIN:DAYLIGHT
TZOFFSETFROM:-0600
TZOFFSETTO:-0500
TZNAME:CDT
DTSTART:20260308T080000
END:DAYLIGHT
BEGIN:STANDARD
TZOFFSETFROM:-0500
TZOFFSETTO:-0600
TZNAME:CST
DTSTART:20261101T070000
END:STANDARD
END:VTIMEZONE
BEGIN:VEVENT
DTSTART;TZID=America/Chicago:20250815T170000
DTEND;TZID=America/Chicago:20250815T170000
DTSTAMP:20260423T213728
CREATED:20250528T162617Z
LAST-MODIFIED:20250528T162625Z
UID:12478-1755277200-1755277200@www.mobileopera.org
SUMMARY:Season Renewal Same Seats deadline
DESCRIPTION:Guaranteed Same Seat Deadline for Renewals \n\n\n\n\nBecome a Season Subscriber!
URL:https://www.mobileopera.org/event/season-renewal-same-seats-deadline/
LOCATION:Alabama
END:VEVENT
END:VCALENDAR