BEGIN:VCALENDAR
VERSION:2.0
PRODID:-//Mobile Opera - ECPv6.15.20//NONSGML v1.0//EN
CALSCALE:GREGORIAN
METHOD:PUBLISH
X-WR-CALNAME:Mobile Opera
X-ORIGINAL-URL:https://www.mobileopera.org
X-WR-CALDESC:Events for Mobile Opera
REFRESH-INTERVAL;VALUE=DURATION:PT1H
X-Robots-Tag:noindex
X-PUBLISHED-TTL:PT1H
BEGIN:VTIMEZONE
TZID:America/Chicago
BEGIN:DAYLIGHT
TZOFFSETFROM:-0600
TZOFFSETTO:-0500
TZNAME:CDT
DTSTART:20240310T080000
END:DAYLIGHT
BEGIN:STANDARD
TZOFFSETFROM:-0500
TZOFFSETTO:-0600
TZNAME:CST
DTSTART:20241103T070000
END:STANDARD
BEGIN:DAYLIGHT
TZOFFSETFROM:-0600
TZOFFSETTO:-0500
TZNAME:CDT
DTSTART:20250309T080000
END:DAYLIGHT
BEGIN:STANDARD
TZOFFSETFROM:-0500
TZOFFSETTO:-0600
TZNAME:CST
DTSTART:20251102T070000
END:STANDARD
BEGIN:DAYLIGHT
TZOFFSETFROM:-0600
TZOFFSETTO:-0500
TZNAME:CDT
DTSTART:20260308T080000
END:DAYLIGHT
BEGIN:STANDARD
TZOFFSETFROM:-0500
TZOFFSETTO:-0600
TZNAME:CST
DTSTART:20261101T070000
END:STANDARD
END:VTIMEZONE
BEGIN:VEVENT
DTSTART;TZID=America/Chicago:20250901T000000
DTEND;TZID=America/Chicago:20250901T000000
DTSTAMP:20260423T182103
CREATED:20250528T162859Z
LAST-MODIFIED:20250528T162906Z
UID:12481-1756684800-1756684800@www.mobileopera.org
SUMMARY:Single Tickets on sale
DESCRIPTION:Single tickets for the 2025-2026 Season go on sale \n\n\n\n\nPurchase Tickets
URL:https://www.mobileopera.org/event/single-tickets-on-sale/
LOCATION:Alabama
END:VEVENT
BEGIN:VEVENT
DTSTART;TZID=America/Chicago:20250815T170000
DTEND;TZID=America/Chicago:20250815T170000
DTSTAMP:20260423T182103
CREATED:20250528T162617Z
LAST-MODIFIED:20250528T162625Z
UID:12478-1755277200-1755277200@www.mobileopera.org
SUMMARY:Season Renewal Same Seats deadline
DESCRIPTION:Guaranteed Same Seat Deadline for Renewals \n\n\n\n\nBecome a Season Subscriber!
URL:https://www.mobileopera.org/event/season-renewal-same-seats-deadline/
LOCATION:Alabama
END:VEVENT
BEGIN:VEVENT
DTSTART;TZID=America/Chicago:20250601T000000
DTEND;TZID=America/Chicago:20250601T000000
DTSTAMP:20260423T182103
CREATED:20250528T162344Z
LAST-MODIFIED:20250528T162434Z
UID:12476-1748736000-1748736000@www.mobileopera.org
SUMMARY:New and Renewal Season Subscriptions Open
DESCRIPTION:New and Renewal Season Subscriptions Open \n\n\n\n\nBecome a Season Subscriber!
URL:https://www.mobileopera.org/event/season-subscriptions-renewal/
LOCATION:Alabama
END:VEVENT
BEGIN:VEVENT
DTSTART;TZID=America/Chicago:20250111T130000
DTEND;TZID=America/Chicago:20250111T130000
DTSTAMP:20260423T182103
CREATED:20231116T174431Z
LAST-MODIFIED:20240520T162304Z
UID:11228-1736600400-1736600400@www.mobileopera.org
SUMMARY:The Madame Rose Palmai-Tenser Scholarship Competition
DESCRIPTION:The final stage in the competition will be held Saturday\, January 11\, 2024 at 1:00 p.m. at the Larkins Music Center\, 257 Dauphin St. Mobile\, Alabama. Each competitor will perform two arias from standard opera and operetta repertoire in an order randomly selected by drawing. After each competitor performs\, Scholarships will be awarded
URL:https://www.mobileopera.org/event/the-madame-rose-palmai-tenser-scholarship-competition/
LOCATION:Alabama
END:VEVENT
END:VCALENDAR