BEGIN:VCALENDAR
VERSION:2.0
PRODID:-//Mobile Opera - ECPv6.15.20//NONSGML v1.0//EN
CALSCALE:GREGORIAN
METHOD:PUBLISH
X-WR-CALNAME:Mobile Opera
X-ORIGINAL-URL:https://www.mobileopera.org
X-WR-CALDESC:Events for Mobile Opera
REFRESH-INTERVAL;VALUE=DURATION:PT1H
X-Robots-Tag:noindex
X-PUBLISHED-TTL:PT1H
BEGIN:VTIMEZONE
TZID:America/Chicago
BEGIN:DAYLIGHT
TZOFFSETFROM:-0600
TZOFFSETTO:-0500
TZNAME:CDT
DTSTART:20250309T080000
END:DAYLIGHT
BEGIN:STANDARD
TZOFFSETFROM:-0500
TZOFFSETTO:-0600
TZNAME:CST
DTSTART:20251102T070000
END:STANDARD
BEGIN:DAYLIGHT
TZOFFSETFROM:-0600
TZOFFSETTO:-0500
TZNAME:CDT
DTSTART:20260308T080000
END:DAYLIGHT
BEGIN:STANDARD
TZOFFSETFROM:-0500
TZOFFSETTO:-0600
TZNAME:CST
DTSTART:20261101T070000
END:STANDARD
BEGIN:DAYLIGHT
TZOFFSETFROM:-0600
TZOFFSETTO:-0500
TZNAME:CDT
DTSTART:20270314T080000
END:DAYLIGHT
BEGIN:STANDARD
TZOFFSETFROM:-0500
TZOFFSETTO:-0600
TZNAME:CST
DTSTART:20271107T070000
END:STANDARD
END:VTIMEZONE
BEGIN:VEVENT
DTSTART;TZID=America/Chicago:20260315T150000
DTEND;TZID=America/Chicago:20260315T150000
DTSTAMP:20260423T110727
CREATED:20230531T180746Z
LAST-MODIFIED:20250429T162427Z
UID:10819-1773586800-1773586800@www.mobileopera.org
SUMMARY:Afternoon of Stars: The Magic Flute
DESCRIPTION:Hear the stars of The Magic Flute performing favorite songs and arias -theirs and yours- in Bernheim Hall at the Downtown (Ben May Main) Branch of the Mobile Public Library. Following the performance\, a reception is held where you can meet the stars. Admission is free. \n\n\n\n\n\n\n\n\nClick FOr More Information
URL:https://www.mobileopera.org/event/afternoon-of-stars-the-magic-flute/
LOCATION:Bernheim Hall – Ben May Main Library\, 701 Government Street\, Mobile\, Alabama\, 36602
ORGANIZER;CN="Mobile Opera%2C Inc.":MAILTO:info@mobileopera.org
END:VEVENT
END:VCALENDAR