BEGIN:VCALENDAR
VERSION:2.0
PRODID:-//Mobile Opera - ECPv6.15.20//NONSGML v1.0//EN
CALSCALE:GREGORIAN
METHOD:PUBLISH
X-ORIGINAL-URL:https://www.mobileopera.org
X-WR-CALDESC:Events for Mobile Opera
REFRESH-INTERVAL;VALUE=DURATION:PT1H
X-Robots-Tag:noindex
X-PUBLISHED-TTL:PT1H
BEGIN:VTIMEZONE
TZID:America/Chicago
BEGIN:DAYLIGHT
TZOFFSETFROM:-0600
TZOFFSETTO:-0500
TZNAME:CDT
DTSTART:20250309T080000
END:DAYLIGHT
BEGIN:STANDARD
TZOFFSETFROM:-0500
TZOFFSETTO:-0600
TZNAME:CST
DTSTART:20251102T070000
END:STANDARD
BEGIN:DAYLIGHT
TZOFFSETFROM:-0600
TZOFFSETTO:-0500
TZNAME:CDT
DTSTART:20260308T080000
END:DAYLIGHT
BEGIN:STANDARD
TZOFFSETFROM:-0500
TZOFFSETTO:-0600
TZNAME:CST
DTSTART:20261101T070000
END:STANDARD
BEGIN:DAYLIGHT
TZOFFSETFROM:-0600
TZOFFSETTO:-0500
TZNAME:CDT
DTSTART:20270314T080000
END:DAYLIGHT
BEGIN:STANDARD
TZOFFSETFROM:-0500
TZOFFSETTO:-0600
TZNAME:CST
DTSTART:20271107T070000
END:STANDARD
END:VTIMEZONE
BEGIN:VEVENT
DTSTART;TZID=America/Chicago:20260308T030000
DTEND;TZID=America/Chicago:20260308T170000
DTSTAMP:20260423T112557
CREATED:20250930T152035Z
LAST-MODIFIED:20260121T145931Z
UID:12533-1772938800-1772989200@www.mobileopera.org
SUMMARY:Sunday Afternoon Tea
DESCRIPTION:Join Mobile Opera at the beautiful\, Bragg Mitchell Mansion for afternoon tea. Our Guest Speaker is Lynn Stewart. Lynn served as Director for the Bragg-Mitchell Mansion for 17 years and she will share fascinating details about the history and architecture of this marvelous home and its furnishings. Mobile Opera Willson Scholars\, Ataya Griffin\, Zach Petrie\, William Stoll\, Jere’ Thomas\, and pianist\, Clinton Doolittle\, will provide musical entertainment for the afternoon. \nHats are encouraged. \nTickets will be $30\nTickets will not be available at the door. \nMarch 8\, 2026 at 3 pm\nBragg Mitchell Mansion\n1906 Springhill Avenue\nMobile\, Alabama\, 36607
URL:https://www.mobileopera.org/event/sunday-afternoon-tea/
LOCATION:Bragg Mitchell Mansion\, 1906 Springhill Avenue\, Mobile\, Alabama\, 36607
END:VEVENT
END:VCALENDAR