BEGIN:VCALENDAR
VERSION:2.0
PRODID:-//Mobile Opera - ECPv6.15.20//NONSGML v1.0//EN
CALSCALE:GREGORIAN
METHOD:PUBLISH
X-WR-CALNAME:Mobile Opera
X-ORIGINAL-URL:https://www.mobileopera.org
X-WR-CALDESC:Events for Mobile Opera
REFRESH-INTERVAL;VALUE=DURATION:PT1H
X-Robots-Tag:noindex
X-PUBLISHED-TTL:PT1H
BEGIN:VTIMEZONE
TZID:America/Chicago
BEGIN:DAYLIGHT
TZOFFSETFROM:-0600
TZOFFSETTO:-0500
TZNAME:CDT
DTSTART:20250309T080000
END:DAYLIGHT
BEGIN:STANDARD
TZOFFSETFROM:-0500
TZOFFSETTO:-0600
TZNAME:CST
DTSTART:20251102T070000
END:STANDARD
BEGIN:DAYLIGHT
TZOFFSETFROM:-0600
TZOFFSETTO:-0500
TZNAME:CDT
DTSTART:20260308T080000
END:DAYLIGHT
BEGIN:STANDARD
TZOFFSETFROM:-0500
TZOFFSETTO:-0600
TZNAME:CST
DTSTART:20261101T070000
END:STANDARD
BEGIN:DAYLIGHT
TZOFFSETFROM:-0600
TZOFFSETTO:-0500
TZNAME:CDT
DTSTART:20270314T080000
END:DAYLIGHT
BEGIN:STANDARD
TZOFFSETFROM:-0500
TZOFFSETTO:-0600
TZNAME:CST
DTSTART:20271107T070000
END:STANDARD
END:VTIMEZONE
BEGIN:VEVENT
DTSTART;TZID=America/Chicago:20260131T193000
DTEND;TZID=America/Chicago:20260131T193000
DTSTAMP:20260423T143305
CREATED:20240520T163308Z
LAST-MODIFIED:20250429T162117Z
UID:11708-1769887800-1769887800@www.mobileopera.org
SUMMARY:Mozart & Salieri
DESCRIPTION:The mythical rivalry between Mozart and Salieri has been the subject of many fantasies and stories\, from 19th‐century poets to Milos Forman’s successful movie Amadeus. In Rimsky‐Korsakov’s opera\, Mozart is tormented to death by a particularly jealous Salieri…
URL:https://www.mobileopera.org/event/m-s/
LOCATION:Murphy High School Auditorium\, 100 S. Carlen Street\, Mobile\, AL\, United States
END:VEVENT
END:VCALENDAR